BEGIN:VCALENDAR
VERSION:2.0
PRODID:-//Zanaida Stewart Robles - ECPv6.15.20//NONSGML v1.0//EN
CALSCALE:GREGORIAN
METHOD:PUBLISH
X-ORIGINAL-URL:https://zanaidarobles.com
X-WR-CALDESC:Events for Zanaida Stewart Robles
REFRESH-INTERVAL;VALUE=DURATION:PT1H
X-Robots-Tag:noindex
X-PUBLISHED-TTL:PT1H
BEGIN:VTIMEZONE
TZID:America/New_York
BEGIN:DAYLIGHT
TZOFFSETFROM:-0500
TZOFFSETTO:-0400
TZNAME:EDT
DTSTART:20220313T070000
END:DAYLIGHT
BEGIN:STANDARD
TZOFFSETFROM:-0400
TZOFFSETTO:-0500
TZNAME:EST
DTSTART:20221106T060000
END:STANDARD
BEGIN:DAYLIGHT
TZOFFSETFROM:-0500
TZOFFSETTO:-0400
TZNAME:EDT
DTSTART:20230312T070000
END:DAYLIGHT
BEGIN:STANDARD
TZOFFSETFROM:-0400
TZOFFSETTO:-0500
TZNAME:EST
DTSTART:20231105T060000
END:STANDARD
BEGIN:DAYLIGHT
TZOFFSETFROM:-0500
TZOFFSETTO:-0400
TZNAME:EDT
DTSTART:20240310T070000
END:DAYLIGHT
BEGIN:STANDARD
TZOFFSETFROM:-0400
TZOFFSETTO:-0500
TZNAME:EST
DTSTART:20241103T060000
END:STANDARD
END:VTIMEZONE
BEGIN:VTIMEZONE
TZID:America/Los_Angeles
BEGIN:DAYLIGHT
TZOFFSETFROM:-0800
TZOFFSETTO:-0700
TZNAME:PDT
DTSTART:20210314T100000
END:DAYLIGHT
BEGIN:STANDARD
TZOFFSETFROM:-0700
TZOFFSETTO:-0800
TZNAME:PST
DTSTART:20211107T090000
END:STANDARD
BEGIN:DAYLIGHT
TZOFFSETFROM:-0800
TZOFFSETTO:-0700
TZNAME:PDT
DTSTART:20220313T100000
END:DAYLIGHT
BEGIN:STANDARD
TZOFFSETFROM:-0700
TZOFFSETTO:-0800
TZNAME:PST
DTSTART:20221106T090000
END:STANDARD
BEGIN:DAYLIGHT
TZOFFSETFROM:-0800
TZOFFSETTO:-0700
TZNAME:PDT
DTSTART:20230312T100000
END:DAYLIGHT
BEGIN:STANDARD
TZOFFSETFROM:-0700
TZOFFSETTO:-0800
TZNAME:PST
DTSTART:20231105T090000
END:STANDARD
END:VTIMEZONE
BEGIN:VEVENT
DTSTART;TZID=America/New_York:20230518T193000
DTEND;TZID=America/New_York:20230518T220000
DTSTAMP:20260424T182806
CREATED:20230425T200727Z
LAST-MODIFIED:20230425T200727Z
UID:7616-1684438200-1684447200@zanaidarobles.com
SUMMARY:Orlando Sings
DESCRIPTION:Join us for the first concert of the Orlando Sings Choral Festival 2023 featuring composers Margaret Bonds and André Thomas. The new Orlando Senior Singers will make their festival debut as they open the concert. Harmonia then will sing a powerful set by composers Marques Garrett\, Zanaida Robles\, Rosephyane Powell\, and Jeffery Ames. Then the OS Symphonic Chorus takes the stage to perform Margaret Bonds’ Credo\, a setting of W. E. B. Du Bois’ prose poem in which he declares his philosophy of racial equality. This will be conducted by Chevalier Lovett in his Orlando Sings debut. Subtitled “A Celebration of Love and Joy\,” the gospel-style mass of André J. Thomas with piano\, drums\, and bass guitar will uplift and inspire. \nRead more at VisitOrlando.com \nGo to the festival website
URL:https://zanaidarobles.com/event/orlando-sings/
LOCATION:First United Methodist Church of Orlando\, 142 E Jackson St\, Orlando\, FL\, 32801\, United States
CATEGORIES:Choir Festivals,Concerts
ATTACH;FMTTYPE=image/jpeg:https://zanaidarobles.com/wp-content/uploads/2023/04/2023-05-18_Orlando_Choral-Festival-2023-4.875-x-3.75-v3.jpg
END:VEVENT
BEGIN:VEVENT
DTSTART;VALUE=DATE:20220407
DTEND;VALUE=DATE:20220410
DTSTAMP:20260424T182806
CREATED:20220330T034644Z
LAST-MODIFIED:20220425T035836Z
UID:4710-1649289600-1649548799@zanaidarobles.com
SUMMARY:NHMEA All-State Treble Chorus
DESCRIPTION:April 4/7\, I’m conducting the Treble Honor Choir for the New Hampshire Music Educators Association in Concord\, NH \nRead more about the \nNew Hampshire Music Educators Association
URL:https://zanaidarobles.com/event/nhmea-all-state-treble-chorus/
LOCATION:Concord High School\, 170 Warren St\, Concord\, NH\, 03301\, United States
CATEGORIES:Choir Festivals,Conferences
ATTACH;FMTTYPE=image/jpeg:https://zanaidarobles.com/wp-content/uploads/2022/04/1024px-Downtown_Concord_NH.jpeg
END:VEVENT
END:VCALENDAR