BEGIN:VCALENDAR
VERSION:2.0
PRODID:-//Zanaida Stewart Robles - ECPv6.15.20//NONSGML v1.0//EN
CALSCALE:GREGORIAN
METHOD:PUBLISH
X-ORIGINAL-URL:https://zanaidarobles.com
X-WR-CALDESC:Events for Zanaida Stewart Robles
REFRESH-INTERVAL;VALUE=DURATION:PT1H
X-Robots-Tag:noindex
X-PUBLISHED-TTL:PT1H
BEGIN:VTIMEZONE
TZID:America/Los_Angeles
BEGIN:DAYLIGHT
TZOFFSETFROM:-0800
TZOFFSETTO:-0700
TZNAME:PDT
DTSTART:20180311T100000
END:DAYLIGHT
BEGIN:STANDARD
TZOFFSETFROM:-0700
TZOFFSETTO:-0800
TZNAME:PST
DTSTART:20181104T090000
END:STANDARD
BEGIN:DAYLIGHT
TZOFFSETFROM:-0800
TZOFFSETTO:-0700
TZNAME:PDT
DTSTART:20190310T100000
END:DAYLIGHT
BEGIN:STANDARD
TZOFFSETFROM:-0700
TZOFFSETTO:-0800
TZNAME:PST
DTSTART:20191103T090000
END:STANDARD
BEGIN:DAYLIGHT
TZOFFSETFROM:-0800
TZOFFSETTO:-0700
TZNAME:PDT
DTSTART:20200308T100000
END:DAYLIGHT
BEGIN:STANDARD
TZOFFSETFROM:-0700
TZOFFSETTO:-0800
TZNAME:PST
DTSTART:20201101T090000
END:STANDARD
BEGIN:DAYLIGHT
TZOFFSETFROM:-0800
TZOFFSETTO:-0700
TZNAME:PDT
DTSTART:20210314T100000
END:DAYLIGHT
BEGIN:STANDARD
TZOFFSETFROM:-0700
TZOFFSETTO:-0800
TZNAME:PST
DTSTART:20211107T090000
END:STANDARD
END:VTIMEZONE
BEGIN:VEVENT
DTSTART;VALUE=DATE:20190714
DTEND;VALUE=DATE:20190720
DTSTAMP:20260422T150049
CREATED:20190623T185024Z
LAST-MODIFIED:20190623T185024Z
UID:773-1563062400-1563580799@zanaidarobles.com
SUMMARY:Centennial National Convention
DESCRIPTION:The National Association of Negro Musicians\, Inc. holds a national convention annually in different metropolitan cities all over the United States. Members and visitors attend and participate in workshops\, seminars\, lectures\, discussions\, masterclasses\, and performances. The national round of our annual scholarship competition is also held at the convention\, in addition to various opportunities to recognize the legends and trailblazers within our organization. Our next gathering will be our Centennial Convention\, to be held July 14-19\, 2019 in Chicago\, Illinois.
URL:https://zanaidarobles.com/event/centennial-national-convention/
LOCATION:Palmer House Hilton\, Chicago\, IL\, United States
CATEGORIES:Meetings,Training
ATTACH;FMTTYPE=image/jpeg:https://zanaidarobles.com/wp-content/uploads/2019/06/lance-anderson-636845-unsplash.jpg
END:VEVENT
BEGIN:VEVENT
DTSTART;TZID=America/Los_Angeles:20190810T140000
DTEND;TZID=America/Los_Angeles:20190810T160000
DTSTAMP:20260422T150049
CREATED:20190725T062205Z
LAST-MODIFIED:20190727T202506Z
UID:831-1565445600-1565452800@zanaidarobles.com
SUMMARY:Monthly Meeting — NANM
DESCRIPTION:Location TBD in Pasadena \nGeorge Robert Garner III Branch\nNational Association of Negro Musicians
URL:https://zanaidarobles.com/event/monthly-meeting-nanm/
LOCATION:Pasadena\, CA\, Pasadena\, CA\, United States
CATEGORIES:Meetings
ATTACH;FMTTYPE=image/gif:https://zanaidarobles.com/wp-content/uploads/2017/03/nanmlogosmall.gif
END:VEVENT
BEGIN:VEVENT
DTSTART;TZID=America/Los_Angeles:20191130T160000
DTEND;TZID=America/Los_Angeles:20191130T190000
DTSTAMP:20260422T150049
CREATED:20190725T063437Z
LAST-MODIFIED:20191125T201338Z
UID:839-1575129600-1575140400@zanaidarobles.com
SUMMARY:NANM Regional Holiday Party
DESCRIPTION:Join our musical family for season fun in Pasadena.  Contact Zanaida for more details.
URL:https://zanaidarobles.com/event/nanm-regional-holiday-party/
LOCATION:Pasadena Hilton\, 168 S Los Robles Ave\, Pasadena\, CA\, 91101\, United States
CATEGORIES:Meetings
ATTACH;FMTTYPE=image/jpeg:https://zanaidarobles.com/wp-content/uploads/2019/07/definitely-sparkly-1170343-640x480.jpg
END:VEVENT
BEGIN:VEVENT
DTSTART;VALUE=DATE:20200222
DTEND;VALUE=DATE:20200223
DTSTAMP:20260422T150049
CREATED:20200125T074055Z
LAST-MODIFIED:20200224T084354Z
UID:1035-1582329600-1582415999@zanaidarobles.com
SUMMARY:Premiere\, "She Walks in Pools"
DESCRIPTION:Zanaida’s brand new work\, “She Walks in Pools“\, was commissioned for the CCDA SSAA All-State Honor Choir and addresses the timely subject of depression and anxiety. The piece will be premiered on Saturday\, February 22 in Fresno\, CA during the California All-State Music Education Conference.
URL:https://zanaidarobles.com/event/premiere-she-walks-in-pools/
LOCATION:Fresno\, CA
CATEGORIES:Concerts,Meetings
ATTACH;FMTTYPE=image/jpeg:https://zanaidarobles.com/wp-content/uploads/2020/02/casmec.jpg
END:VEVENT
BEGIN:VEVENT
DTSTART;VALUE=DATE:20200314
DTEND;VALUE=DATE:20200315
DTSTAMP:20260422T150049
CREATED:20200225T142919Z
LAST-MODIFIED:20200225T142919Z
UID:1044-1584144000-1584230399@zanaidarobles.com
SUMMARY:NANM GRGIII Branch Meeting
DESCRIPTION:National Association of Negro Musicians (NANM)\n \nMonthly meetings for the George Robert Garner III Branch take place on second Saturdays. \nPlease contact Zanaida if you’d like more information about this organization\, membership\, or this year’s national convention.
URL:https://zanaidarobles.com/event/nanm-grgiii-branch-meeting-2-2/
LOCATION:Neighborhood Church\, 301 N Orange Grove Blvd\, Pasadena\, CA\, 90041\, United States
CATEGORIES:Meetings
ATTACH;FMTTYPE=image/gif:https://zanaidarobles.com/wp-content/uploads/2017/03/nanmlogosmall.gif
END:VEVENT
END:VCALENDAR