BEGIN:VCALENDAR
VERSION:2.0
PRODID:-//Zanaida Stewart Robles - ECPv6.15.20//NONSGML v1.0//EN
CALSCALE:GREGORIAN
METHOD:PUBLISH
X-ORIGINAL-URL:https://zanaidarobles.com
X-WR-CALDESC:Events for Zanaida Stewart Robles
REFRESH-INTERVAL;VALUE=DURATION:PT1H
X-Robots-Tag:noindex
X-PUBLISHED-TTL:PT1H
BEGIN:VTIMEZONE
TZID:America/Los_Angeles
BEGIN:DAYLIGHT
TZOFFSETFROM:-0800
TZOFFSETTO:-0700
TZNAME:PDT
DTSTART:20170312T100000
END:DAYLIGHT
BEGIN:STANDARD
TZOFFSETFROM:-0700
TZOFFSETTO:-0800
TZNAME:PST
DTSTART:20171105T090000
END:STANDARD
BEGIN:DAYLIGHT
TZOFFSETFROM:-0800
TZOFFSETTO:-0700
TZNAME:PDT
DTSTART:20180311T100000
END:DAYLIGHT
BEGIN:STANDARD
TZOFFSETFROM:-0700
TZOFFSETTO:-0800
TZNAME:PST
DTSTART:20181104T090000
END:STANDARD
BEGIN:DAYLIGHT
TZOFFSETFROM:-0800
TZOFFSETTO:-0700
TZNAME:PDT
DTSTART:20190310T100000
END:DAYLIGHT
BEGIN:STANDARD
TZOFFSETFROM:-0700
TZOFFSETTO:-0800
TZNAME:PST
DTSTART:20191103T090000
END:STANDARD
END:VTIMEZONE
BEGIN:VEVENT
DTSTART;TZID=America/Los_Angeles:20180603T100000
DTEND;TZID=America/Los_Angeles:20180603T110000
DTSTAMP:20260421T031759
CREATED:20180526T021450Z
LAST-MODIFIED:20180526T021450Z
UID:386-1528020000-1528023600@zanaidarobles.com
SUMMARY:Finding Your Voice
DESCRIPTION:Zanaida delivers a musical sermon at the Unitarian Universalist Community Church of Santa Monica.
URL:https://zanaidarobles.com/event/finding-your-voice/
LOCATION:Unitarian Universalist Church of Santa Monica\, 1260 18th Street\, Santa Monica\, CA\, 90404\, United States
CATEGORIES:Sacred services
ATTACH;FMTTYPE=image/jpeg:https://zanaidarobles.com/wp-content/uploads/2018/05/uuccsm_front.jpg
END:VEVENT
BEGIN:VEVENT
DTSTART;TZID=America/Los_Angeles:20180624T100000
DTEND;TZID=America/Los_Angeles:20180624T110000
DTSTAMP:20260421T031759
CREATED:20180526T022222Z
LAST-MODIFIED:20180526T022222Z
UID:391-1529834400-1529838000@zanaidarobles.com
SUMMARY:Special Guest
DESCRIPTION:Lynn Mendoza Khan joins Zanaida at UUCCM to lead music for the 10am service.
URL:https://zanaidarobles.com/event/special-guest/
LOCATION:CA
CATEGORIES:Sacred services
ATTACH;FMTTYPE=image/jpeg:https://zanaidarobles.com/wp-content/uploads/2018/05/lynn_mendoza_khan.jpg
END:VEVENT
END:VCALENDAR