BEGIN:VCALENDAR
VERSION:2.0
PRODID:-//Zanaida Stewart Robles - ECPv6.15.20//NONSGML v1.0//EN
CALSCALE:GREGORIAN
METHOD:PUBLISH
X-ORIGINAL-URL:https://zanaidarobles.com
X-WR-CALDESC:Events for Zanaida Stewart Robles
REFRESH-INTERVAL;VALUE=DURATION:PT1H
X-Robots-Tag:noindex
X-PUBLISHED-TTL:PT1H
BEGIN:VTIMEZONE
TZID:America/Los_Angeles
BEGIN:DAYLIGHT
TZOFFSETFROM:-0800
TZOFFSETTO:-0700
TZNAME:PDT
DTSTART:20180311T100000
END:DAYLIGHT
BEGIN:STANDARD
TZOFFSETFROM:-0700
TZOFFSETTO:-0800
TZNAME:PST
DTSTART:20181104T090000
END:STANDARD
BEGIN:DAYLIGHT
TZOFFSETFROM:-0800
TZOFFSETTO:-0700
TZNAME:PDT
DTSTART:20190310T100000
END:DAYLIGHT
BEGIN:STANDARD
TZOFFSETFROM:-0700
TZOFFSETTO:-0800
TZNAME:PST
DTSTART:20191103T090000
END:STANDARD
BEGIN:DAYLIGHT
TZOFFSETFROM:-0800
TZOFFSETTO:-0700
TZNAME:PDT
DTSTART:20200308T100000
END:DAYLIGHT
BEGIN:STANDARD
TZOFFSETFROM:-0700
TZOFFSETTO:-0800
TZNAME:PST
DTSTART:20201101T090000
END:STANDARD
END:VTIMEZONE
BEGIN:VEVENT
DTSTART;VALUE=DATE:20190505
DTEND;VALUE=DATE:20190506
DTSTAMP:20260420T085357
CREATED:20190424T102020Z
LAST-MODIFIED:20190424T102020Z
UID:725-1557014400-1557100799@zanaidarobles.com
SUMMARY:Kentaro Sato's 'Kyrie'
DESCRIPTION:Japan-born composer Kentaro Sato\, aka “Ken-P” to his friends\, is now based in Los Angeles and making waves as a film and game composer as well as in symphonic and choral music.  But on Sunday\, May 5th\, Zanaida conducts his evocative ‘Kyrie’ at the 9:30 and 11:30 services.
URL:https://zanaidarobles.com/event/kentaro-satos-kyrie/
LOCATION:CA
CATEGORIES:Sacred services
ATTACH;FMTTYPE=image/jpeg:https://zanaidarobles.com/wp-content/uploads/2019/04/2009-KentaroSato-KenP-Sky-l.jpg
END:VEVENT
BEGIN:VEVENT
DTSTART;VALUE=DATE:20190512
DTEND;VALUE=DATE:20190513
DTSTAMP:20260420T085357
CREATED:20190424T102159Z
LAST-MODIFIED:20190424T102228Z
UID:728-1557619200-1557705599@zanaidarobles.com
SUMMARY:Coleridge\, Ives and Wells
DESCRIPTION:May 12 at 9:30 & 11:30am\nZanaida sings music of Coleridge-Taylor and Charles Ives with Collaborative Keyboardist Wells Leng.
URL:https://zanaidarobles.com/event/coleridge-ives-and-wells/
LOCATION:Neighborhood Church\, 301 N Orange Grove Blvd\, Pasadena\, CA\, 90041\, United States
CATEGORIES:Sacred services
ATTACH;FMTTYPE=image/jpeg:https://zanaidarobles.com/wp-content/uploads/2018/09/uu-neighborhood-logo.jpg
END:VEVENT
END:VCALENDAR