BEGIN:VCALENDAR
VERSION:2.0
PRODID:-//Zanaida Stewart Robles - ECPv6.15.20//NONSGML v1.0//EN
CALSCALE:GREGORIAN
METHOD:PUBLISH
X-WR-CALNAME:Zanaida Stewart Robles
X-ORIGINAL-URL:https://zanaidarobles.com
X-WR-CALDESC:Events for Zanaida Stewart Robles
REFRESH-INTERVAL;VALUE=DURATION:PT1H
X-Robots-Tag:noindex
X-PUBLISHED-TTL:PT1H
BEGIN:VTIMEZONE
TZID:America/Los_Angeles
BEGIN:DAYLIGHT
TZOFFSETFROM:-0800
TZOFFSETTO:-0700
TZNAME:PDT
DTSTART:20160313T100000
END:DAYLIGHT
BEGIN:STANDARD
TZOFFSETFROM:-0700
TZOFFSETTO:-0800
TZNAME:PST
DTSTART:20161106T090000
END:STANDARD
BEGIN:DAYLIGHT
TZOFFSETFROM:-0800
TZOFFSETTO:-0700
TZNAME:PDT
DTSTART:20170312T100000
END:DAYLIGHT
BEGIN:STANDARD
TZOFFSETFROM:-0700
TZOFFSETTO:-0800
TZNAME:PST
DTSTART:20171105T090000
END:STANDARD
BEGIN:DAYLIGHT
TZOFFSETFROM:-0800
TZOFFSETTO:-0700
TZNAME:PDT
DTSTART:20180311T100000
END:DAYLIGHT
BEGIN:STANDARD
TZOFFSETFROM:-0700
TZOFFSETTO:-0800
TZNAME:PST
DTSTART:20181104T090000
END:STANDARD
BEGIN:DAYLIGHT
TZOFFSETFROM:-0800
TZOFFSETTO:-0700
TZNAME:PDT
DTSTART:20190310T100000
END:DAYLIGHT
BEGIN:STANDARD
TZOFFSETFROM:-0700
TZOFFSETTO:-0800
TZNAME:PST
DTSTART:20191103T090000
END:STANDARD
BEGIN:DAYLIGHT
TZOFFSETFROM:-0800
TZOFFSETTO:-0700
TZNAME:PDT
DTSTART:20200308T100000
END:DAYLIGHT
BEGIN:STANDARD
TZOFFSETFROM:-0700
TZOFFSETTO:-0800
TZNAME:PST
DTSTART:20201101T090000
END:STANDARD
BEGIN:DAYLIGHT
TZOFFSETFROM:-0800
TZOFFSETTO:-0700
TZNAME:PDT
DTSTART:20210314T100000
END:DAYLIGHT
BEGIN:STANDARD
TZOFFSETFROM:-0700
TZOFFSETTO:-0800
TZNAME:PST
DTSTART:20211107T090000
END:STANDARD
END:VTIMEZONE
BEGIN:VEVENT
DTSTART;VALUE=DATE:20200216
DTEND;VALUE=DATE:20200217
DTSTAMP:20260424T161956
CREATED:20200125T073825Z
LAST-MODIFIED:20200224T083919Z
UID:1031-1581811200-1581897599@zanaidarobles.com
SUMMARY:Services at Neighborhood Church
DESCRIPTION:The Neighborhood Section Leaders perform music on themes of love and heart break. Wells Leng plays the Theme from Terms of Endearment by Michael Gore and “Go the Distance” by Alan Menken.
URL:https://zanaidarobles.com/event/services-at-neighborhood-church-4/
LOCATION:Neighborhood Church\, 301 N Orange Grove Blvd\, Pasadena\, CA\, 90041\, United States
CATEGORIES:Sacred services
ATTACH;FMTTYPE=image/jpeg:https://zanaidarobles.com/wp-content/uploads/2018/09/neighborhood_church_sign.jpeg
END:VEVENT
BEGIN:VEVENT
DTSTART;VALUE=DATE:20200209
DTEND;VALUE=DATE:20200210
DTSTAMP:20260424T161956
CREATED:20200125T073712Z
LAST-MODIFIED:20200224T083815Z
UID:1029-1581206400-1581292799@zanaidarobles.com
SUMMARY:Services at Neighborhood Church
DESCRIPTION:Zanaida and the Neighborhood Section Leaders perform music of Christina Aguilera and Rachel Platten. Wells Leng plays Intermezzo in E Major Op.116\, No. 4 by Johannes Brahms and Prelude from Tombeau de Couperin by Maurice Ravel.
URL:https://zanaidarobles.com/event/services-at-neighborhood-church-3/
LOCATION:Neighborhood Church\, 301 N Orange Grove Blvd\, Pasadena\, CA\, 90041\, United States
CATEGORIES:Sacred services
ATTACH;FMTTYPE=image/jpeg:https://zanaidarobles.com/wp-content/uploads/2018/09/neighborhood_church_sign.jpeg
END:VEVENT
BEGIN:VEVENT
DTSTART;VALUE=DATE:20200202
DTEND;VALUE=DATE:20200203
DTSTAMP:20260424T161956
CREATED:20200125T073523Z
LAST-MODIFIED:20200224T083704Z
UID:1027-1580601600-1580687999@zanaidarobles.com
SUMMARY:Services at Neighborhood Church
DESCRIPTION:Zaniada conducts her own arrangement of “Lift Ev’ry Voice and Sing” with soloist Christie Lynn Lawrence. Wells Leng plays Prelude in C Minor BWV 921 by JS Bach and the Star-Spangled Banner as performed by Jimi Hendrix.
URL:https://zanaidarobles.com/event/services-at-neighborhood-church-2/
LOCATION:Neighborhood Church\, 301 N Orange Grove Blvd\, Pasadena\, CA\, 90041\, United States
CATEGORIES:Sacred services
ATTACH;FMTTYPE=image/jpeg:https://zanaidarobles.com/wp-content/uploads/2018/09/neighborhood_church_sign.jpeg
END:VEVENT
BEGIN:VEVENT
DTSTART;VALUE=DATE:20200126
DTEND;VALUE=DATE:20200127
DTSTAMP:20260424T161956
CREATED:20200224T083512Z
LAST-MODIFIED:20200224T083512Z
UID:1025-1579996800-1580083199@zanaidarobles.com
SUMMARY:Services at Neighborhood Church
DESCRIPTION:Zanaida conducts “Wanna Baraka” arr. by Shawn Kirchner and “Show Us How to Love” by Mark Miller. Wells Leng plays “We Can Work it Out” by Lennon and McCartney and “Where Everybody Knows Your Name” by Portnoy and Angelo.
URL:https://zanaidarobles.com/event/services-at-neighborhood-church/
LOCATION:Neighborhood Church\, 301 N Orange Grove Blvd\, Pasadena\, CA\, 90041\, United States
CATEGORIES:Sacred services
END:VEVENT
BEGIN:VEVENT
DTSTART;TZID=America/Los_Angeles:20191229T100000
DTEND;TZID=America/Los_Angeles:20191229T110000
DTSTAMP:20260424T161956
CREATED:20190725T064125Z
LAST-MODIFIED:20191225T194044Z
UID:849-1577613600-1577617200@zanaidarobles.com
SUMMARY:The Meaning of Kwanzaa
DESCRIPTION:Our December holidays conclude with an uplifting service honoring Kwanzaa\, the annual festival celebrating African culture and values.  We especially invite our local Pasadena community to join us for this eeucational and inspirational Sunday\, with original music composed by Dr. Robles\, live drumming\, and storytelling from Malaika Tawasufi of the African American Cultural Center of Los Angeles.
URL:https://zanaidarobles.com/event/kwanzaa-service/
LOCATION:Neighborhood Church\, 301 N Orange Grove Blvd\, Pasadena\, CA\, 90041\, United States
CATEGORIES:Sacred services
ATTACH;FMTTYPE=image/png:https://zanaidarobles.com/wp-content/uploads/2019/07/kwanzaa_clip.png
END:VEVENT
BEGIN:VEVENT
DTSTART;TZID=America/Los_Angeles:20191224T200000
DTEND;TZID=America/Los_Angeles:20191224T213000
DTSTAMP:20260424T161956
CREATED:20191125T215642Z
LAST-MODIFIED:20191125T215642Z
UID:967-1577217600-1577223000@zanaidarobles.com
SUMMARY:This Shining Night
DESCRIPTION:Traditional Christmas Eve Service \nThis traditional Christmas Eve candlelight service will feature the Neighborhood Church chorus conducted by Dr. Zanaida Robles\, the Bells of Neighborhood conducted by F. Thomas Simpson\, and homily by the Rev Lissa Gundlach.
URL:https://zanaidarobles.com/event/this-shining-night/
LOCATION:Neighborhood Church\, 301 N Orange Grove Blvd\, Pasadena\, CA\, 90041\, United States
CATEGORIES:Sacred services
ATTACH;FMTTYPE=image/jpeg:https://zanaidarobles.com/wp-content/uploads/2019/11/rodolfo-marques-4D160Ilvm2k-unsplash.jpg
END:VEVENT
BEGIN:VEVENT
DTSTART;TZID=America/Los_Angeles:20191224T170000
DTEND;TZID=America/Los_Angeles:20191224T180000
DTSTAMP:20260424T161956
CREATED:20191125T215412Z
LAST-MODIFIED:20191125T215412Z
UID:964-1577206800-1577210400@zanaidarobles.com
SUMMARY:Let Heaven and Nature Sing
DESCRIPTION:Family Christmas Eve Service \nBring the whole family to sing your favorite carols and celebrate Christmas with Matt\, Lissa and Zanaida\, featuring joyful holiday choral music and the Bells of Neighborhood.
URL:https://zanaidarobles.com/event/let-heaven-and-nature-sing/
LOCATION:Neighborhood Church\, 301 N Orange Grove Blvd\, Pasadena\, CA\, 90041\, United States
CATEGORIES:Sacred services
ATTACH;FMTTYPE=image/jpeg:https://zanaidarobles.com/wp-content/uploads/2019/11/chris-sowder-k7gw4YFh6GE-unsplash.jpg
END:VEVENT
BEGIN:VEVENT
DTSTART;VALUE=DATE:20191216
DTEND;VALUE=DATE:20191217
DTSTAMP:20260424T161956
CREATED:20191125T210745Z
LAST-MODIFIED:20191125T210745Z
UID:956-1576454400-1576540799@zanaidarobles.com
SUMMARY:A Very Unitarian Universalist Christmas
DESCRIPTION:Sunday\, December 15\, 9:30 & 11:30am \nJoin us at either service for our Holiday Pageant
URL:https://zanaidarobles.com/event/a-very-unitarian-universalist-christmas/
LOCATION:Neighborhood Church\, 301 N Orange Grove Blvd\, Pasadena\, CA\, 90041\, United States
CATEGORIES:Sacred services
ATTACH;FMTTYPE=image/jpeg:https://zanaidarobles.com/wp-content/uploads/2018/09/neighborhood_church_sign.jpeg
END:VEVENT
BEGIN:VEVENT
DTSTART;TZID=America/Los_Angeles:20191020T093000
DTEND;TZID=America/Los_Angeles:20191020T093000
DTSTAMP:20260424T161956
CREATED:20190923T232907Z
LAST-MODIFIED:20191015T233129Z
UID:915-1571563800-1571563800@zanaidarobles.com
SUMMARY:Thompson & Copland
DESCRIPTION:Sunday\, October 20 @ 9:30am and 11:30am \nZanaida conducts Alleluia by Randall Thompson and Zion’s Walls by Aaron Copland
URL:https://zanaidarobles.com/event/thompson-copland/
LOCATION:Neighborhood Church\, 301 N Orange Grove Blvd\, Pasadena\, CA\, 90041\, United States
CATEGORIES:Sacred services
ATTACH;FMTTYPE=image/jpeg:https://zanaidarobles.com/wp-content/uploads/2018/09/neighborhood_church_sign.jpeg
END:VEVENT
BEGIN:VEVENT
DTSTART;TZID=America/Los_Angeles:20191013T093000
DTEND;TZID=America/Los_Angeles:20191015T123000
DTSTAMP:20260424T161956
CREATED:20190923T232619Z
LAST-MODIFIED:20191015T233224Z
UID:912-1570959000-1571142600@zanaidarobles.com
SUMMARY:Social Justice - Millikan Truth and Reconciliation Project
DESCRIPTION:Sunday\, October 13 @ 9:30am and 11:30am\nNeighborhood Church – Pasadena \nGuest Artists: Tonality Quartet
URL:https://zanaidarobles.com/event/social-justice-millikan-truth-and-reconciliation-project/
LOCATION:Neighborhood Church\, 301 N Orange Grove Blvd\, Pasadena\, CA\, 90041\, United States
CATEGORIES:Sacred services
ATTACH;FMTTYPE=image/png:https://zanaidarobles.com/wp-content/uploads/2019/10/millikan.png
END:VEVENT
BEGIN:VEVENT
DTSTART;VALUE=DATE:20191006
DTEND;VALUE=DATE:20191007
DTSTAMP:20260424T161956
CREATED:20190925T100909Z
LAST-MODIFIED:20190926T101125Z
UID:897-1570320000-1570406399@zanaidarobles.com
SUMMARY:Neighborhood Church Youth Chorus debuts!
DESCRIPTION:Services @ 9:30am and 11:30am \nPlus\, join us at 1pm for our Handbell “Petting Zoo” in room 21.
URL:https://zanaidarobles.com/event/neighborhood-church-youth-chorus-debuts/
LOCATION:Neighborhood Church\, 301 N Orange Grove Blvd\, Pasadena\, CA\, 90041\, United States
CATEGORIES:Sacred services
ATTACH;FMTTYPE=image/jpeg:https://zanaidarobles.com/wp-content/uploads/2018/09/neighborhood_church_sign.jpeg
END:VEVENT
BEGIN:VEVENT
DTSTART;TZID=America/Los_Angeles:20190609T100000
DTEND;TZID=America/Los_Angeles:20190609T110000
DTSTAMP:20260424T161956
CREATED:20190523T060710Z
LAST-MODIFIED:20190526T060932Z
UID:761-1560074400-1560078000@zanaidarobles.com
SUMMARY:Pride Sunday
DESCRIPTION:Zanaida conducts music of Hairston and Gilkyson in Neighborhood Chorus’s final appearance of the 2018-19 church year.
URL:https://zanaidarobles.com/event/pride-sunday/
LOCATION:Neighborhood Church\, 301 N Orange Grove Blvd\, Pasadena\, CA\, 90041\, United States
CATEGORIES:Sacred services
ATTACH;FMTTYPE=image/jpeg:https://zanaidarobles.com/wp-content/uploads/2018/09/uu-neighborhood-logo.jpg
END:VEVENT
BEGIN:VEVENT
DTSTART;TZID=America/Los_Angeles:20190602T100000
DTEND;TZID=America/Los_Angeles:20190602T110000
DTSTAMP:20260424T161956
CREATED:20190523T060535Z
LAST-MODIFIED:20190526T060704Z
UID:758-1559469600-1559473200@zanaidarobles.com
SUMMARY:Flower Communion and Garden Dedication
DESCRIPTION:Outdoors on the beautiful campus of Neighborhood Church\, Zanaida conducts music of Debussy and Wilbye\, and Wells Leng plays cello.
URL:https://zanaidarobles.com/event/flower-communion-and-garden-dedication/
LOCATION:Neighborhood Church\, 301 N Orange Grove Blvd\, Pasadena\, CA\, 90041\, United States
CATEGORIES:Sacred services
ATTACH;FMTTYPE=image/png:https://zanaidarobles.com/wp-content/uploads/2019/05/Screen-Shot-2019-05-25-at-10.41.14-PM.png
END:VEVENT
BEGIN:VEVENT
DTSTART;VALUE=DATE:20190512
DTEND;VALUE=DATE:20190513
DTSTAMP:20260424T161956
CREATED:20190424T102159Z
LAST-MODIFIED:20190424T102228Z
UID:728-1557619200-1557705599@zanaidarobles.com
SUMMARY:Coleridge\, Ives and Wells
DESCRIPTION:May 12 at 9:30 & 11:30am\nZanaida sings music of Coleridge-Taylor and Charles Ives with Collaborative Keyboardist Wells Leng.
URL:https://zanaidarobles.com/event/coleridge-ives-and-wells/
LOCATION:Neighborhood Church\, 301 N Orange Grove Blvd\, Pasadena\, CA\, 90041\, United States
CATEGORIES:Sacred services
ATTACH;FMTTYPE=image/jpeg:https://zanaidarobles.com/wp-content/uploads/2018/09/uu-neighborhood-logo.jpg
END:VEVENT
BEGIN:VEVENT
DTSTART;VALUE=DATE:20190505
DTEND;VALUE=DATE:20190506
DTSTAMP:20260424T161956
CREATED:20190424T102020Z
LAST-MODIFIED:20190424T102020Z
UID:725-1557014400-1557100799@zanaidarobles.com
SUMMARY:Kentaro Sato's 'Kyrie'
DESCRIPTION:Japan-born composer Kentaro Sato\, aka “Ken-P” to his friends\, is now based in Los Angeles and making waves as a film and game composer as well as in symphonic and choral music.  But on Sunday\, May 5th\, Zanaida conducts his evocative ‘Kyrie’ at the 9:30 and 11:30 services.
URL:https://zanaidarobles.com/event/kentaro-satos-kyrie/
LOCATION:CA
CATEGORIES:Sacred services
ATTACH;FMTTYPE=image/jpeg:https://zanaidarobles.com/wp-content/uploads/2019/04/2009-KentaroSato-KenP-Sky-l.jpg
END:VEVENT
BEGIN:VEVENT
DTSTART;TZID=America/Los_Angeles:20190421T093000
DTEND;TZID=America/Los_Angeles:20190421T123000
DTSTAMP:20260424T161956
CREATED:20190325T013329Z
LAST-MODIFIED:20190325T013449Z
UID:692-1555839000-1555849800@zanaidarobles.com
SUMMARY:Easter Sunday
DESCRIPTION:Services at 9:30am and 11:30am \nA festive Easter service featuring gospel music by Kurt Carr and Richard Smallwood.
URL:https://zanaidarobles.com/event/easter-sunday/
LOCATION:Neighborhood Church\, 301 N Orange Grove Blvd\, Pasadena\, CA\, 90041\, United States
CATEGORIES:Sacred services
ATTACH;FMTTYPE=image/jpeg:https://zanaidarobles.com/wp-content/uploads/2019/03/mitchell-maglio-1054970-unsplash_phixr.jpg
END:VEVENT
BEGIN:VEVENT
DTSTART;TZID=America/Los_Angeles:20190414T093000
DTEND;TZID=America/Los_Angeles:20190414T123000
DTSTAMP:20260424T161956
CREATED:20190325T012948Z
LAST-MODIFIED:20190325T013605Z
UID:689-1555234200-1555245000@zanaidarobles.com
SUMMARY:Hildegard and Robles
DESCRIPTION:Services at 9:30am and 11:30am \nZanaida sings music of Hildegard von Bingen and (guess who) Robles with Amy Waters and Gloria Palermo.
URL:https://zanaidarobles.com/event/hildegard-and-robles/
LOCATION:Neighborhood Church\, 301 N Orange Grove Blvd\, Pasadena\, CA\, 90041\, United States
CATEGORIES:Sacred services
ATTACH;FMTTYPE=image/jpeg:https://zanaidarobles.com/wp-content/uploads/2019/03/HildegardVonBingen.jpg
END:VEVENT
BEGIN:VEVENT
DTSTART;TZID=America/Los_Angeles:20190407T093000
DTEND;TZID=America/Los_Angeles:20190407T123000
DTSTAMP:20260424T161956
CREATED:20190325T011244Z
LAST-MODIFIED:20190325T013638Z
UID:681-1554629400-1554640200@zanaidarobles.com
SUMMARY:"Jesus and the Traders"
DESCRIPTION:Services at 9:30am and 11:30am \nZanaida conducts the Neighborhood Chorus as they perform the 1934 work for a cappella choir by Hungarian composer Zoltan Kodály.
URL:https://zanaidarobles.com/event/jesus-and-the-traders/
LOCATION:Neighborhood Church\, 301 N Orange Grove Blvd\, Pasadena\, CA\, 90041\, United States
CATEGORIES:Sacred services
ATTACH;FMTTYPE=image/jpeg:https://zanaidarobles.com/wp-content/uploads/2019/03/Zoltan-Kodaly1.jpg
END:VEVENT
BEGIN:VEVENT
DTSTART;TZID=America/Los_Angeles:20180909T093000
DTEND;TZID=America/Los_Angeles:20180909T123000
DTSTAMP:20260424T161956
CREATED:20180726T033734Z
LAST-MODIFIED:20180726T033734Z
UID:490-1536485400-1536496200@zanaidarobles.com
SUMMARY:First Sunday as Director of Neighborhood UUC in Pasadena
DESCRIPTION:9:30 and 11:30am services\nA new church home and new people… it’s going to be an exciting year! \nChurch website
URL:https://zanaidarobles.com/event/first-sunday-as-director-of-neighborhood-uuc-in-pasadena/
LOCATION:Neighborhood Church\, 301 N Orange Grove Blvd\, Pasadena\, CA\, 90041\, United States
CATEGORIES:Sacred services
END:VEVENT
BEGIN:VEVENT
DTSTART;TZID=America/Los_Angeles:20180826T100000
DTEND;TZID=America/Los_Angeles:20180826T110000
DTSTAMP:20260424T161956
CREATED:20180726T033130Z
LAST-MODIFIED:20180726T033130Z
UID:488-1535277600-1535281200@zanaidarobles.com
SUMMARY:Final Sunday as Director of Music at UUCC Santa Monica
DESCRIPTION:Join us as my family and I say goodbye to this lovely church in Santa Monica. I’ll miss all of the people I’ve worked with there! \nChurch website
URL:https://zanaidarobles.com/event/final-sunday-as-director-of-music-at-uucc-santa-monica/
LOCATION:Unitarian Universalist Church of Santa Monica\, 1260 18th Street\, Santa Monica\, CA\, 90404\, United States
CATEGORIES:Sacred services
ATTACH;FMTTYPE=image/jpeg:https://zanaidarobles.com/wp-content/uploads/2017/03/UUSM_logo_only.jpg
END:VEVENT
BEGIN:VEVENT
DTSTART;TZID=America/Los_Angeles:20180624T100000
DTEND;TZID=America/Los_Angeles:20180624T110000
DTSTAMP:20260424T161956
CREATED:20180526T022222Z
LAST-MODIFIED:20180526T022222Z
UID:391-1529834400-1529838000@zanaidarobles.com
SUMMARY:Special Guest
DESCRIPTION:Lynn Mendoza Khan joins Zanaida at UUCCM to lead music for the 10am service.
URL:https://zanaidarobles.com/event/special-guest/
LOCATION:CA
CATEGORIES:Sacred services
ATTACH;FMTTYPE=image/jpeg:https://zanaidarobles.com/wp-content/uploads/2018/05/lynn_mendoza_khan.jpg
END:VEVENT
BEGIN:VEVENT
DTSTART;TZID=America/Los_Angeles:20180603T100000
DTEND;TZID=America/Los_Angeles:20180603T110000
DTSTAMP:20260424T161956
CREATED:20180526T021450Z
LAST-MODIFIED:20180526T021450Z
UID:386-1528020000-1528023600@zanaidarobles.com
SUMMARY:Finding Your Voice
DESCRIPTION:Zanaida delivers a musical sermon at the Unitarian Universalist Community Church of Santa Monica.
URL:https://zanaidarobles.com/event/finding-your-voice/
LOCATION:Unitarian Universalist Church of Santa Monica\, 1260 18th Street\, Santa Monica\, CA\, 90404\, United States
CATEGORIES:Sacred services
ATTACH;FMTTYPE=image/jpeg:https://zanaidarobles.com/wp-content/uploads/2018/05/uuccsm_front.jpg
END:VEVENT
BEGIN:VEVENT
DTSTART;VALUE=DATE:20180401
DTEND;VALUE=DATE:20180402
DTSTAMP:20260424T161956
CREATED:20180325T131437Z
LAST-MODIFIED:20180406T132900Z
UID:333-1522540800-1522627199@zanaidarobles.com
SUMMARY:Easter at UUCC Santa Monica
DESCRIPTION:Zanaida will conduct  “Alleluia” by Paul Basler. The Sanctuary Choir sings at both the 9am and 11am services.
URL:https://zanaidarobles.com/event/easter-at-uucc-santa-monica/
LOCATION:Unitarian Universalist Church of Santa Monica\, 1260 18th Street\, Santa Monica\, CA\, 90404\, United States
CATEGORIES:Sacred services
ATTACH;FMTTYPE=image/jpeg:https://zanaidarobles.com/wp-content/uploads/2017/03/UUSM_logo_only.jpg
END:VEVENT
BEGIN:VEVENT
DTSTART;TZID=America/Los_Angeles:20171231T110000
DTEND;TZID=America/Los_Angeles:20171231T120000
DTSTAMP:20260424T161956
CREATED:20171122T064049Z
LAST-MODIFIED:20180222T064320Z
UID:279-1514718000-1514721600@zanaidarobles.com
SUMMARY:All These Words Mean Happy Kwanzaa
DESCRIPTION:  \nKwanzaa was created in 1966 to offer Black Americans an alternative to the consumerism (and lack of capital returning to Black communities) found at Christmas. Research for the holiday was partially provided by our Unitarian Universalist Association through a fund created to support Black Empowerment. Join Gregory C. Carrow-Boyd for a lively musical dialogue on the meaning of Kwanzaa in Unitarian Universalism and its significance to Black Unitarian Universalists.  Church website
URL:https://zanaidarobles.com/event/all-these-words-mean-happy-kwanzaa/
LOCATION:Unitarian Universalist Church of Santa Monica\, 1260 18th Street\, Santa Monica\, CA\, 90404\, United States
CATEGORIES:Sacred services
END:VEVENT
BEGIN:VEVENT
DTSTART;TZID=America/Los_Angeles:20171224T180000
DTEND;TZID=America/Los_Angeles:20171224T220000
DTSTAMP:20260424T161956
CREATED:20171122T063508Z
LAST-MODIFIED:20180222T070115Z
UID:276-1514138400-1514152800@zanaidarobles.com
SUMMARY:Christmas Eve Services
DESCRIPTION:UUSM welcomes all as we gather for candlelight services on Christmas Eve. At 6:00 pm\, Music Director Dr. Zanaida Robles will conduct the adult choir. An additional service takes place at 8:00 pm. \nOur traditional candlelight services will be led by our minister\, Rev. Greg Ward\, and the adult choir is led by Music Director Dr. Zanaida Robles. There will be stories\, carols and music to draw us deeper into the truest meaning behind the original journey to Bethlehem. This moving service culminates in a candlelit singing of “Silent Night.” \nParking is provided at the UCLA structure for this special evening. Church website
URL:https://zanaidarobles.com/event/christmas-eve-services/
LOCATION:Unitarian Universalist Church of Santa Monica\, 1260 18th Street\, Santa Monica\, CA\, 90404\, United States
CATEGORIES:Sacred services
END:VEVENT
END:VCALENDAR