BEGIN:VCALENDAR
VERSION:2.0
PRODID:-//Zanaida Stewart Robles - ECPv6.15.20//NONSGML v1.0//EN
CALSCALE:GREGORIAN
METHOD:PUBLISH
X-WR-CALNAME:Zanaida Stewart Robles
X-ORIGINAL-URL:https://zanaidarobles.com
X-WR-CALDESC:Events for Zanaida Stewart Robles
REFRESH-INTERVAL;VALUE=DURATION:PT1H
X-Robots-Tag:noindex
X-PUBLISHED-TTL:PT1H
BEGIN:VTIMEZONE
TZID:America/Los_Angeles
BEGIN:DAYLIGHT
TZOFFSETFROM:-0800
TZOFFSETTO:-0700
TZNAME:PDT
DTSTART:20170312T100000
END:DAYLIGHT
BEGIN:STANDARD
TZOFFSETFROM:-0700
TZOFFSETTO:-0800
TZNAME:PST
DTSTART:20171105T090000
END:STANDARD
BEGIN:DAYLIGHT
TZOFFSETFROM:-0800
TZOFFSETTO:-0700
TZNAME:PDT
DTSTART:20180311T100000
END:DAYLIGHT
BEGIN:STANDARD
TZOFFSETFROM:-0700
TZOFFSETTO:-0800
TZNAME:PST
DTSTART:20181104T090000
END:STANDARD
BEGIN:DAYLIGHT
TZOFFSETFROM:-0800
TZOFFSETTO:-0700
TZNAME:PDT
DTSTART:20190310T100000
END:DAYLIGHT
BEGIN:STANDARD
TZOFFSETFROM:-0700
TZOFFSETTO:-0800
TZNAME:PST
DTSTART:20191103T090000
END:STANDARD
END:VTIMEZONE
BEGIN:VEVENT
DTSTART;TZID=America/Los_Angeles:20180414T140000
DTEND;TZID=America/Los_Angeles:20180414T160000
DTSTAMP:20260423T135835
CREATED:20180325T133125Z
LAST-MODIFIED:20180406T133618Z
UID:345-1523714400-1523721600@zanaidarobles.com
SUMMARY:NANM Meeting: George Robert Garner III Branch
DESCRIPTION:Meeting of the Altadena/Pasadena chapter of the National Association of Negro Musicians on April 14 at Throop UU Church in Pasadena. Topics: April 27-28 Regional Conference: GRG III Branch will participate in the concert on Friday night\, April 27 (including a rare flute performance by Zanaida!)\, plus Dr. Robles will moderate a round table discussion about “Lift Ev’ry Voice and Sing” on Saturday afternoon. \nSee the event listing on 4/27-28 for more on the NANM Regional Conference.
URL:https://zanaidarobles.com/event/nanm-meeting-george-robert-garner-iii-branch/
LOCATION:Throop Unitarian Universalist Church\, 300 S Los Robles Ave\, Pasadena\, CA\, 91101\, United States
CATEGORIES:Meetings
ATTACH;FMTTYPE=image/gif:https://zanaidarobles.com/wp-content/uploads/2017/03/nanmlogosmall.gif
END:VEVENT
BEGIN:VEVENT
DTSTART;VALUE=DATE:20180427
DTEND;VALUE=DATE:20180429
DTSTAMP:20260423T135835
CREATED:20180325T133630Z
LAST-MODIFIED:20180406T133925Z
UID:348-1524787200-1524959999@zanaidarobles.com
SUMMARY:NANM Regional Conference
DESCRIPTION:GRG III Branch will participate in the concert on Friday night\, April 27 (including a rare flute performance by Zanaida!)\, plus Dr. Robles will moderate a round table discussion about “Lift Ev’ry Voice and Sing” on Saturday afternoon. \nRegistration for the Regional NAMN conference is $40 and includes lunch on Saturday 4/28. You don’t have to be a NANM member to attend. All are welcome. For information\, contact Zanaida.
URL:https://zanaidarobles.com/event/nanm-regional-conference/
LOCATION:CA
CATEGORIES:Meetings
ATTACH;FMTTYPE=image/gif:https://zanaidarobles.com/wp-content/uploads/2017/03/nanmlogosmall.gif
END:VEVENT
BEGIN:VEVENT
DTSTART;TZID=America/Los_Angeles:20180427T193000
DTEND;TZID=America/Los_Angeles:20180427T213000
DTSTAMP:20260423T135835
CREATED:20180426T153853Z
LAST-MODIFIED:20180426T153853Z
UID:354-1524857400-1524864600@zanaidarobles.com
SUMMARY:Western Regional Concert
DESCRIPTION:The Western Regional Conference of the National Association of Negro Musicians kicks off Day 1 with beautiful music\, and Zanaida plays fute in a woodwind trio!  This concert is open to the public.
URL:https://zanaidarobles.com/event/western-regional-concert/
LOCATION:Grant A.M.E. Church\, 10435 South Central Ave\, Los Angeles\, CA\, 90002\, United States
CATEGORIES:Concerts
ATTACH;FMTTYPE=image/jpeg:https://zanaidarobles.com/wp-content/uploads/2018/04/flute-4-1425269-639x426.jpg
END:VEVENT
BEGIN:VEVENT
DTSTART;TZID=America/Los_Angeles:20180428T123000
DTEND;TZID=America/Los_Angeles:20180428T143000
DTSTAMP:20260423T135835
CREATED:20180426T184446Z
LAST-MODIFIED:20180426T184446Z
UID:358-1524918600-1524925800@zanaidarobles.com
SUMMARY:Conference Workshop
DESCRIPTION:As part of Day 2 of the Western Regional Conference\, NANM is hosting a roundtable discussion and Q&A on the topic of “The Radical Implications of Singing ‘Lift Every Voice and Sing'”.
URL:https://zanaidarobles.com/event/conference-workshop/
LOCATION:Grant A.M.E. Church\, 10435 South Central Ave\, Los Angeles\, CA\, 90002\, United States
ATTACH;FMTTYPE=image/gif:https://zanaidarobles.com/wp-content/uploads/2017/03/nanmlogosmall.gif
END:VEVENT
END:VCALENDAR